BEGIN:VCALENDAR
VERSION:2.0
PRODID:-//PYVOBJECT//NONSGML Version 0.9.9//EN
X-WR-TIMEZONE:Africa/Johannesburg
BEGIN:VTIMEZONE
TZID:Africa/Johannesburg
BEGIN:STANDARD
DTSTART:20000101T000000
RRULE:FREQ=YEARLY;BYMONTH=1
TZNAME:SAST
TZOFFSETFROM:+0200
TZOFFSETTO:+0200
END:STANDARD
END:VTIMEZONE
BEGIN:VEVENT
UID:20260425T133316Z - 79750@eos-content
DTSTART;TZID=Africa/Johannesburg:20260426T110000
DTEND;TZID=Africa/Johannesburg:20260426T140000
ATTENDEE:MAILTO:paula@uniqproperties.co.za
DESCRIPTION:https://www.uniqproperties.co.za/results/residential/for-sale/s
 andton/broadacres/freehold/3142456/\n\nContact Agent for address.\n\nPaula
  Lucas (076 375 8579)
DTSTAMP:20260425T133316Z
LOCATION:Broadacres\, Sandton
SUMMARY:uniQ Properties Show Day - UPR228
END:VEVENT
END:VCALENDAR
